BEGIN:VCALENDAR
VERSION:2.0
PRODID:-//City of West Okoboji - ECPv6.15.20//NONSGML v1.0//EN
CALSCALE:GREGORIAN
METHOD:PUBLISH
X-ORIGINAL-URL:https://cityofwestokoboji.org
X-WR-CALDESC:Events for City of West Okoboji
REFRESH-INTERVAL;VALUE=DURATION:PT1H
X-Robots-Tag:noindex
X-PUBLISHED-TTL:PT1H
BEGIN:VTIMEZONE
TZID:America/Chicago
BEGIN:DAYLIGHT
TZOFFSETFROM:-0600
TZOFFSETTO:-0500
TZNAME:CDT
DTSTART:20250309T080000
END:DAYLIGHT
BEGIN:STANDARD
TZOFFSETFROM:-0500
TZOFFSETTO:-0600
TZNAME:CST
DTSTART:20251102T070000
END:STANDARD
BEGIN:DAYLIGHT
TZOFFSETFROM:-0600
TZOFFSETTO:-0500
TZNAME:CDT
DTSTART:20260308T080000
END:DAYLIGHT
BEGIN:STANDARD
TZOFFSETFROM:-0500
TZOFFSETTO:-0600
TZNAME:CST
DTSTART:20261101T070000
END:STANDARD
BEGIN:DAYLIGHT
TZOFFSETFROM:-0600
TZOFFSETTO:-0500
TZNAME:CDT
DTSTART:20270314T080000
END:DAYLIGHT
BEGIN:STANDARD
TZOFFSETFROM:-0500
TZOFFSETTO:-0600
TZNAME:CST
DTSTART:20271107T070000
END:STANDARD
BEGIN:DAYLIGHT
TZOFFSETFROM:-0600
TZOFFSETTO:-0500
TZNAME:CDT
DTSTART:20280312T080000
END:DAYLIGHT
BEGIN:STANDARD
TZOFFSETFROM:-0500
TZOFFSETTO:-0600
TZNAME:CST
DTSTART:20281105T070000
END:STANDARD
END:VTIMEZONE
BEGIN:VEVENT
DTSTART;TZID=America/Chicago:20260427T070000
DTEND;TZID=America/Chicago:20260427T110000
DTSTAMP:20260423T103806
CREATED:20240923T184823Z
LAST-MODIFIED:20250728T200723Z
UID:10000132-1777273200-1777287600@cityofwestokoboji.org
SUMMARY:RECYCLING
DESCRIPTION:
URL:https://cityofwestokoboji.org/event/recycling/2026-04-27/
END:VEVENT
BEGIN:VEVENT
DTSTART;TZID=America/Chicago:20260511T173000
DTEND;TZID=America/Chicago:20260511T183000
DTSTAMP:20260423T103806
CREATED:20240424T151309Z
LAST-MODIFIED:20260409T153538Z
UID:10000290-1778520600-1778524200@cityofwestokoboji.org
SUMMARY:City Council Meeting
DESCRIPTION:
URL:https://cityofwestokoboji.org/event/city-council-meeting/2026-05-11/
END:VEVENT
BEGIN:VEVENT
DTSTART;TZID=America/Chicago:20260525T070000
DTEND;TZID=America/Chicago:20260525T110000
DTSTAMP:20260423T103806
CREATED:20240923T184823Z
LAST-MODIFIED:20250728T200723Z
UID:10000133-1779692400-1779706800@cityofwestokoboji.org
SUMMARY:RECYCLING
DESCRIPTION:
URL:https://cityofwestokoboji.org/event/recycling/2026-05-25/
END:VEVENT
BEGIN:VEVENT
DTSTART;TZID=America/Chicago:20260608T173000
DTEND;TZID=America/Chicago:20260608T183000
DTSTAMP:20260423T103806
CREATED:20240424T151309Z
LAST-MODIFIED:20260409T153538Z
UID:10000291-1780939800-1780943400@cityofwestokoboji.org
SUMMARY:City Council Meeting
DESCRIPTION:
URL:https://cityofwestokoboji.org/event/city-council-meeting/2026-06-08/
END:VEVENT
BEGIN:VEVENT
DTSTART;TZID=America/Chicago:20260629T070000
DTEND;TZID=America/Chicago:20260629T110000
DTSTAMP:20260423T103806
CREATED:20240923T184823Z
LAST-MODIFIED:20250728T200723Z
UID:10000134-1782716400-1782730800@cityofwestokoboji.org
SUMMARY:RECYCLING
DESCRIPTION:
URL:https://cityofwestokoboji.org/event/recycling/2026-06-29/
END:VEVENT
BEGIN:VEVENT
DTSTART;TZID=America/Chicago:20260713T173000
DTEND;TZID=America/Chicago:20260713T183000
DTSTAMP:20260423T103806
CREATED:20240424T151309Z
LAST-MODIFIED:20260409T153538Z
UID:10000292-1783963800-1783967400@cityofwestokoboji.org
SUMMARY:City Council Meeting
DESCRIPTION:
URL:https://cityofwestokoboji.org/event/city-council-meeting/2026-07-13/
END:VEVENT
BEGIN:VEVENT
DTSTART;TZID=America/Chicago:20260727T070000
DTEND;TZID=America/Chicago:20260727T110000
DTSTAMP:20260423T103806
CREATED:20240923T184823Z
LAST-MODIFIED:20250728T200723Z
UID:10000135-1785135600-1785150000@cityofwestokoboji.org
SUMMARY:RECYCLING
DESCRIPTION:
URL:https://cityofwestokoboji.org/event/recycling/2026-07-27/
END:VEVENT
BEGIN:VEVENT
DTSTART;TZID=America/Chicago:20260810T173000
DTEND;TZID=America/Chicago:20260810T183000
DTSTAMP:20260423T103806
CREATED:20240424T151309Z
LAST-MODIFIED:20260409T153538Z
UID:10000293-1786383000-1786386600@cityofwestokoboji.org
SUMMARY:City Council Meeting
DESCRIPTION:
URL:https://cityofwestokoboji.org/event/city-council-meeting/2026-08-10/
END:VEVENT
BEGIN:VEVENT
DTSTART;TZID=America/Chicago:20260831T070000
DTEND;TZID=America/Chicago:20260831T110000
DTSTAMP:20260423T103806
CREATED:20240923T184823Z
LAST-MODIFIED:20250728T200723Z
UID:10000136-1788159600-1788174000@cityofwestokoboji.org
SUMMARY:RECYCLING
DESCRIPTION:
URL:https://cityofwestokoboji.org/event/recycling/2026-08-31/
END:VEVENT
BEGIN:VEVENT
DTSTART;TZID=America/Chicago:20260914T173000
DTEND;TZID=America/Chicago:20260914T183000
DTSTAMP:20260423T103806
CREATED:20240424T151309Z
LAST-MODIFIED:20260409T153538Z
UID:10000294-1789407000-1789410600@cityofwestokoboji.org
SUMMARY:City Council Meeting
DESCRIPTION:
URL:https://cityofwestokoboji.org/event/city-council-meeting/2026-09-14/
END:VEVENT
BEGIN:VEVENT
DTSTART;TZID=America/Chicago:20260928T070000
DTEND;TZID=America/Chicago:20260928T110000
DTSTAMP:20260423T103806
CREATED:20240923T184823Z
LAST-MODIFIED:20250728T200723Z
UID:10000137-1790578800-1790593200@cityofwestokoboji.org
SUMMARY:RECYCLING
DESCRIPTION:
URL:https://cityofwestokoboji.org/event/recycling/2026-09-28/
END:VEVENT
BEGIN:VEVENT
DTSTART;TZID=America/Chicago:20261012T173000
DTEND;TZID=America/Chicago:20261012T183000
DTSTAMP:20260423T103806
CREATED:20240424T151309Z
LAST-MODIFIED:20260409T153538Z
UID:10000295-1791826200-1791829800@cityofwestokoboji.org
SUMMARY:City Council Meeting
DESCRIPTION:
URL:https://cityofwestokoboji.org/event/city-council-meeting/2026-10-12/
END:VEVENT
BEGIN:VEVENT
DTSTART;TZID=America/Chicago:20261026T070000
DTEND;TZID=America/Chicago:20261026T110000
DTSTAMP:20260423T103806
CREATED:20240923T184823Z
LAST-MODIFIED:20250728T200723Z
UID:10000138-1792998000-1793012400@cityofwestokoboji.org
SUMMARY:RECYCLING
DESCRIPTION:
URL:https://cityofwestokoboji.org/event/recycling/2026-10-26/
END:VEVENT
BEGIN:VEVENT
DTSTART;TZID=America/Chicago:20261109T173000
DTEND;TZID=America/Chicago:20261109T183000
DTSTAMP:20260423T103806
CREATED:20240424T151309Z
LAST-MODIFIED:20260409T153538Z
UID:10000296-1794245400-1794249000@cityofwestokoboji.org
SUMMARY:City Council Meeting
DESCRIPTION:
URL:https://cityofwestokoboji.org/event/city-council-meeting/2026-11-09/
END:VEVENT
BEGIN:VEVENT
DTSTART;TZID=America/Chicago:20261126T080000
DTEND;TZID=America/Chicago:20261127T170000
DTSTAMP:20260423T103806
CREATED:20241016T131731Z
LAST-MODIFIED:20241016T131951Z
UID:10000111-1795680000-1795798800@cityofwestokoboji.org
SUMMARY:Office Closed Thanksgiving Holiday
DESCRIPTION:Office Closed for Thanksgiving Holiday
URL:https://cityofwestokoboji.org/event/office-closed-thanksgiving-holiday/2026-11-26/
END:VEVENT
BEGIN:VEVENT
DTSTART;TZID=America/Chicago:20261130T070000
DTEND;TZID=America/Chicago:20261130T110000
DTSTAMP:20260423T103806
CREATED:20240923T184823Z
LAST-MODIFIED:20250728T200723Z
UID:10000139-1796022000-1796036400@cityofwestokoboji.org
SUMMARY:RECYCLING
DESCRIPTION:
URL:https://cityofwestokoboji.org/event/recycling/2026-11-30/
END:VEVENT
BEGIN:VEVENT
DTSTART;TZID=America/Chicago:20261214T173000
DTEND;TZID=America/Chicago:20261214T183000
DTSTAMP:20260423T103806
CREATED:20240424T151309Z
LAST-MODIFIED:20260409T153538Z
UID:10000297-1797269400-1797273000@cityofwestokoboji.org
SUMMARY:City Council Meeting
DESCRIPTION:
URL:https://cityofwestokoboji.org/event/city-council-meeting/2026-12-14/
END:VEVENT
BEGIN:VEVENT
DTSTART;TZID=America/Chicago:20261224T080000
DTEND;TZID=America/Chicago:20261225T170000
DTSTAMP:20260423T103806
CREATED:20241016T131807Z
LAST-MODIFIED:20250728T201123Z
UID:10000206-1798099200-1798218000@cityofwestokoboji.org
SUMMARY:Office Closed Christmas Holiday
DESCRIPTION:
URL:https://cityofwestokoboji.org/event/office-closed-christmas-holiday/2026-12-24/
END:VEVENT
BEGIN:VEVENT
DTSTART;TZID=America/Chicago:20261228T070000
DTEND;TZID=America/Chicago:20261228T110000
DTSTAMP:20260423T103806
CREATED:20240923T184823Z
LAST-MODIFIED:20250728T200723Z
UID:10000140-1798441200-1798455600@cityofwestokoboji.org
SUMMARY:RECYCLING
DESCRIPTION:
URL:https://cityofwestokoboji.org/event/recycling/2026-12-28/
END:VEVENT
BEGIN:VEVENT
DTSTART;TZID=America/Chicago:20261231T080000
DTEND;TZID=America/Chicago:20270101T170000
DTSTAMP:20260423T103806
CREATED:20241016T131838Z
LAST-MODIFIED:20241016T131918Z
UID:10000107-1798704000-1798822800@cityofwestokoboji.org
SUMMARY:Office Closed New Year Holiday
DESCRIPTION:
URL:https://cityofwestokoboji.org/event/office-closed-new-year-holiday/2026-12-31/
END:VEVENT
BEGIN:VEVENT
DTSTART;TZID=America/Chicago:20270111T173000
DTEND;TZID=America/Chicago:20270111T183000
DTSTAMP:20260423T103806
CREATED:20240424T151309Z
LAST-MODIFIED:20260409T153538Z
UID:10000298-1799688600-1799692200@cityofwestokoboji.org
SUMMARY:City Council Meeting
DESCRIPTION:
URL:https://cityofwestokoboji.org/event/city-council-meeting/2027-01-11/
END:VEVENT
BEGIN:VEVENT
DTSTART;TZID=America/Chicago:20270125T070000
DTEND;TZID=America/Chicago:20270125T110000
DTSTAMP:20260423T103806
CREATED:20240923T184823Z
LAST-MODIFIED:20250728T200723Z
UID:10000141-1800860400-1800874800@cityofwestokoboji.org
SUMMARY:RECYCLING
DESCRIPTION:
URL:https://cityofwestokoboji.org/event/recycling/2027-01-25/
END:VEVENT
BEGIN:VEVENT
DTSTART;TZID=America/Chicago:20270208T173000
DTEND;TZID=America/Chicago:20270208T183000
DTSTAMP:20260423T103806
CREATED:20240424T151309Z
LAST-MODIFIED:20260409T153538Z
UID:10000299-1802107800-1802111400@cityofwestokoboji.org
SUMMARY:City Council Meeting
DESCRIPTION:
URL:https://cityofwestokoboji.org/event/city-council-meeting/2027-02-08/
END:VEVENT
BEGIN:VEVENT
DTSTART;TZID=America/Chicago:20270222T070000
DTEND;TZID=America/Chicago:20270222T110000
DTSTAMP:20260423T103806
CREATED:20240923T184823Z
LAST-MODIFIED:20250728T200723Z
UID:10000142-1803279600-1803294000@cityofwestokoboji.org
SUMMARY:RECYCLING
DESCRIPTION:
URL:https://cityofwestokoboji.org/event/recycling/2027-02-22/
END:VEVENT
BEGIN:VEVENT
DTSTART;TZID=America/Chicago:20270308T173000
DTEND;TZID=America/Chicago:20270308T183000
DTSTAMP:20260423T103806
CREATED:20240424T151309Z
LAST-MODIFIED:20260409T153538Z
UID:10000300-1804527000-1804530600@cityofwestokoboji.org
SUMMARY:City Council Meeting
DESCRIPTION:
URL:https://cityofwestokoboji.org/event/city-council-meeting/2027-03-08/
END:VEVENT
BEGIN:VEVENT
DTSTART;TZID=America/Chicago:20270329T070000
DTEND;TZID=America/Chicago:20270329T110000
DTSTAMP:20260423T103806
CREATED:20240923T184823Z
LAST-MODIFIED:20250728T200723Z
UID:10000143-1806303600-1806318000@cityofwestokoboji.org
SUMMARY:RECYCLING
DESCRIPTION:
URL:https://cityofwestokoboji.org/event/recycling/2027-03-29/
END:VEVENT
BEGIN:VEVENT
DTSTART;TZID=America/Chicago:20270412T173000
DTEND;TZID=America/Chicago:20270412T183000
DTSTAMP:20260423T103806
CREATED:20240424T151309Z
LAST-MODIFIED:20260409T153538Z
UID:10000301-1807551000-1807554600@cityofwestokoboji.org
SUMMARY:City Council Meeting
DESCRIPTION:
URL:https://cityofwestokoboji.org/event/city-council-meeting/2027-04-12/
END:VEVENT
BEGIN:VEVENT
DTSTART;TZID=America/Chicago:20270426T070000
DTEND;TZID=America/Chicago:20270426T110000
DTSTAMP:20260423T103806
CREATED:20240923T184823Z
LAST-MODIFIED:20250728T200723Z
UID:10000144-1808722800-1808737200@cityofwestokoboji.org
SUMMARY:RECYCLING
DESCRIPTION:
URL:https://cityofwestokoboji.org/event/recycling/2027-04-26/
END:VEVENT
BEGIN:VEVENT
DTSTART;TZID=America/Chicago:20270510T173000
DTEND;TZID=America/Chicago:20270510T183000
DTSTAMP:20260423T103806
CREATED:20240424T151309Z
LAST-MODIFIED:20260409T153538Z
UID:10000302-1809970200-1809973800@cityofwestokoboji.org
SUMMARY:City Council Meeting
DESCRIPTION:
URL:https://cityofwestokoboji.org/event/city-council-meeting/2027-05-10/
END:VEVENT
BEGIN:VEVENT
DTSTART;TZID=America/Chicago:20270531T070000
DTEND;TZID=America/Chicago:20270531T110000
DTSTAMP:20260423T103806
CREATED:20240923T184823Z
LAST-MODIFIED:20250728T200723Z
UID:10000145-1811746800-1811761200@cityofwestokoboji.org
SUMMARY:RECYCLING
DESCRIPTION:
URL:https://cityofwestokoboji.org/event/recycling/2027-05-31/
END:VEVENT
END:VCALENDAR