BEGIN:VCALENDAR
VERSION:2.0
PRODID:-//City of West Okoboji - ECPv6.15.20//NONSGML v1.0//EN
CALSCALE:GREGORIAN
METHOD:PUBLISH
X-ORIGINAL-URL:https://cityofwestokoboji.org
X-WR-CALDESC:Events for City of West Okoboji
REFRESH-INTERVAL;VALUE=DURATION:PT1H
X-Robots-Tag:noindex
X-PUBLISHED-TTL:PT1H
BEGIN:VTIMEZONE
TZID:America/Chicago
BEGIN:DAYLIGHT
TZOFFSETFROM:-0600
TZOFFSETTO:-0500
TZNAME:CDT
DTSTART:20230312T080000
END:DAYLIGHT
BEGIN:STANDARD
TZOFFSETFROM:-0500
TZOFFSETTO:-0600
TZNAME:CST
DTSTART:20231105T070000
END:STANDARD
BEGIN:DAYLIGHT
TZOFFSETFROM:-0600
TZOFFSETTO:-0500
TZNAME:CDT
DTSTART:20240310T080000
END:DAYLIGHT
BEGIN:STANDARD
TZOFFSETFROM:-0500
TZOFFSETTO:-0600
TZNAME:CST
DTSTART:20241103T070000
END:STANDARD
BEGIN:DAYLIGHT
TZOFFSETFROM:-0600
TZOFFSETTO:-0500
TZNAME:CDT
DTSTART:20250309T080000
END:DAYLIGHT
BEGIN:STANDARD
TZOFFSETFROM:-0500
TZOFFSETTO:-0600
TZNAME:CST
DTSTART:20251102T070000
END:STANDARD
BEGIN:DAYLIGHT
TZOFFSETFROM:-0600
TZOFFSETTO:-0500
TZNAME:CDT
DTSTART:20260308T080000
END:DAYLIGHT
BEGIN:STANDARD
TZOFFSETFROM:-0500
TZOFFSETTO:-0600
TZNAME:CST
DTSTART:20261101T070000
END:STANDARD
END:VTIMEZONE
BEGIN:VEVENT
DTSTART;TZID=America/Chicago:20250811T173000
DTEND;TZID=America/Chicago:20250811T183000
DTSTAMP:20260423T150400
CREATED:20240424T151309Z
LAST-MODIFIED:20260409T153538Z
UID:10000281-1754933400-1754937000@cityofwestokoboji.org
SUMMARY:City Council Meeting
DESCRIPTION:
URL:https://cityofwestokoboji.org/event/city-council-meeting/2025-08-11/
END:VEVENT
BEGIN:VEVENT
DTSTART;TZID=America/Chicago:20250731T070000
DTEND;TZID=America/Chicago:20250731T070000
DTSTAMP:20260423T150400
CREATED:20250728T200330Z
LAST-MODIFIED:20250728T200330Z
UID:10000120-1753945200-1753945200@cityofwestokoboji.org
SUMMARY:Recycling
DESCRIPTION:Recycling for residents rescheduled from Monday the 28th.
URL:https://cityofwestokoboji.org/event/recycling-2/
END:VEVENT
BEGIN:VEVENT
DTSTART;TZID=America/Chicago:20250728T070000
DTEND;TZID=America/Chicago:20250728T110000
DTSTAMP:20260423T150400
CREATED:20240923T184823Z
LAST-MODIFIED:20250728T200723Z
UID:10000123-1753686000-1753700400@cityofwestokoboji.org
SUMMARY:RECYCLING
DESCRIPTION:
URL:https://cityofwestokoboji.org/event/recycling/2025-07-28/
END:VEVENT
BEGIN:VEVENT
DTSTART;TZID=America/Chicago:20250714T173000
DTEND;TZID=America/Chicago:20250714T183000
DTSTAMP:20260423T150400
CREATED:20240424T151309Z
LAST-MODIFIED:20260409T153538Z
UID:10000280-1752514200-1752517800@cityofwestokoboji.org
SUMMARY:City Council Meeting
DESCRIPTION:
URL:https://cityofwestokoboji.org/event/city-council-meeting/2025-07-14/
END:VEVENT
BEGIN:VEVENT
DTSTART;VALUE=DATE:20250704
DTEND;VALUE=DATE:20250705
DTSTAMP:20260423T150400
CREATED:20250505T153628Z
LAST-MODIFIED:20250505T153637Z
UID:10000117-1751587200-1751673599@cityofwestokoboji.org
SUMMARY:4th July Holiday Office Closed
DESCRIPTION:Office Closed
URL:https://cityofwestokoboji.org/event/4th-july-holiday-office-closed/
END:VEVENT
BEGIN:VEVENT
DTSTART;TZID=America/Chicago:20250630T070000
DTEND;TZID=America/Chicago:20250630T110000
DTSTAMP:20260423T150400
CREATED:20240923T184823Z
LAST-MODIFIED:20250728T200723Z
UID:10000122-1751266800-1751281200@cityofwestokoboji.org
SUMMARY:RECYCLING
DESCRIPTION:
URL:https://cityofwestokoboji.org/event/recycling/2025-06-30/
END:VEVENT
BEGIN:VEVENT
DTSTART;TZID=America/Chicago:20250614T110000
DTEND;TZID=America/Chicago:20250614T150000
DTSTAMP:20260423T150400
CREATED:20250421T212759Z
LAST-MODIFIED:20250421T212759Z
UID:10000116-1749898800-1749913200@cityofwestokoboji.org
SUMMARY:West Okoboji Centennial Celebration
DESCRIPTION:
URL:https://cityofwestokoboji.org/event/west-okoboji-centennial-celebration/
END:VEVENT
BEGIN:VEVENT
DTSTART;TZID=America/Chicago:20250609T173000
DTEND;TZID=America/Chicago:20250609T183000
DTSTAMP:20260423T150400
CREATED:20240424T151309Z
LAST-MODIFIED:20260409T153538Z
UID:10000279-1749490200-1749493800@cityofwestokoboji.org
SUMMARY:City Council Meeting
DESCRIPTION:
URL:https://cityofwestokoboji.org/event/city-council-meeting/2025-06-09/
END:VEVENT
BEGIN:VEVENT
DTSTART;VALUE=DATE:20250603
DTEND;VALUE=DATE:20250604
DTSTAMP:20260423T150400
CREATED:20250529T153615Z
LAST-MODIFIED:20250529T153615Z
UID:10000119-1748908800-1748995199@cityofwestokoboji.org
SUMMARY:Office Closed
DESCRIPTION:Carol out of town
URL:https://cityofwestokoboji.org/event/office-closed/
END:VEVENT
BEGIN:VEVENT
DTSTART;TZID=America/Chicago:20250526T070000
DTEND;TZID=America/Chicago:20250526T110000
DTSTAMP:20260423T150400
CREATED:20240923T184823Z
LAST-MODIFIED:20250728T200723Z
UID:10000101-1748242800-1748257200@cityofwestokoboji.org
SUMMARY:RECYCLING
DESCRIPTION:
URL:https://cityofwestokoboji.org/event/recycling/2025-05-26/
END:VEVENT
BEGIN:VEVENT
DTSTART;VALUE=DATE:20250526
DTEND;VALUE=DATE:20250527
DTSTAMP:20260423T150400
CREATED:20250505T153721Z
LAST-MODIFIED:20250505T153721Z
UID:10000118-1748217600-1748303999@cityofwestokoboji.org
SUMMARY:Memorial Day Holiday Office Closed
DESCRIPTION:Office Closed
URL:https://cityofwestokoboji.org/event/memorial-day-holiday-office-closed/
END:VEVENT
BEGIN:VEVENT
DTSTART;TZID=America/Chicago:20250523T100000
DTEND;TZID=America/Chicago:20250523T100000
DTSTAMP:20260423T150400
CREATED:20250421T212647Z
LAST-MODIFIED:20250421T212647Z
UID:10000115-1747994400-1747994400@cityofwestokoboji.org
SUMMARY:Terrace Park Beach and Danbom Park Ribbon Cutting
DESCRIPTION:
URL:https://cityofwestokoboji.org/event/terrace-park-beach-and-danbom-park-ribbon-cutting/
END:VEVENT
BEGIN:VEVENT
DTSTART;TZID=America/Chicago:20250512T173000
DTEND;TZID=America/Chicago:20250512T183000
DTSTAMP:20260423T150400
CREATED:20240424T151309Z
LAST-MODIFIED:20260409T153538Z
UID:10000278-1747071000-1747074600@cityofwestokoboji.org
SUMMARY:City Council Meeting
DESCRIPTION:
URL:https://cityofwestokoboji.org/event/city-council-meeting/2025-05-12/
END:VEVENT
BEGIN:VEVENT
DTSTART;TZID=America/Chicago:20250428T070000
DTEND;TZID=America/Chicago:20250428T110000
DTSTAMP:20260423T150400
CREATED:20240923T184823Z
LAST-MODIFIED:20250728T200723Z
UID:10000100-1745823600-1745838000@cityofwestokoboji.org
SUMMARY:RECYCLING
DESCRIPTION:
URL:https://cityofwestokoboji.org/event/recycling/2025-04-28/
END:VEVENT
BEGIN:VEVENT
DTSTART;TZID=America/Chicago:20250414T173000
DTEND;TZID=America/Chicago:20250414T183000
DTSTAMP:20260423T150400
CREATED:20240424T151309Z
LAST-MODIFIED:20260409T153538Z
UID:10000277-1744651800-1744655400@cityofwestokoboji.org
SUMMARY:City Council Meeting
DESCRIPTION:
URL:https://cityofwestokoboji.org/event/city-council-meeting/2025-04-14/
END:VEVENT
BEGIN:VEVENT
DTSTART;TZID=America/Chicago:20250331T070000
DTEND;TZID=America/Chicago:20250331T110000
DTSTAMP:20260423T150400
CREATED:20240923T184823Z
LAST-MODIFIED:20250728T200723Z
UID:10000099-1743404400-1743418800@cityofwestokoboji.org
SUMMARY:RECYCLING
DESCRIPTION:
URL:https://cityofwestokoboji.org/event/recycling/2025-03-31/
END:VEVENT
BEGIN:VEVENT
DTSTART;TZID=America/Chicago:20250310T173000
DTEND;TZID=America/Chicago:20250310T183000
DTSTAMP:20260423T150400
CREATED:20240424T151309Z
LAST-MODIFIED:20260409T153538Z
UID:10000276-1741627800-1741631400@cityofwestokoboji.org
SUMMARY:City Council Meeting
DESCRIPTION:
URL:https://cityofwestokoboji.org/event/city-council-meeting/2025-03-10/
END:VEVENT
BEGIN:VEVENT
DTSTART;TZID=America/Chicago:20250224T070000
DTEND;TZID=America/Chicago:20250224T110000
DTSTAMP:20260423T150400
CREATED:20240923T184823Z
LAST-MODIFIED:20250728T200723Z
UID:10000098-1740380400-1740394800@cityofwestokoboji.org
SUMMARY:RECYCLING
DESCRIPTION:
URL:https://cityofwestokoboji.org/event/recycling/2025-02-24/
END:VEVENT
BEGIN:VEVENT
DTSTART;TZID=America/Chicago:20250210T173000
DTEND;TZID=America/Chicago:20250210T183000
DTSTAMP:20260423T150400
CREATED:20240424T151309Z
LAST-MODIFIED:20260409T153538Z
UID:10000275-1739208600-1739212200@cityofwestokoboji.org
SUMMARY:City Council Meeting
DESCRIPTION:
URL:https://cityofwestokoboji.org/event/city-council-meeting/2025-02-10/
END:VEVENT
BEGIN:VEVENT
DTSTART;TZID=America/Chicago:20250127T070000
DTEND;TZID=America/Chicago:20250127T110000
DTSTAMP:20260423T150400
CREATED:20240923T184823Z
LAST-MODIFIED:20250728T200723Z
UID:10000097-1737961200-1737975600@cityofwestokoboji.org
SUMMARY:RECYCLING
DESCRIPTION:
URL:https://cityofwestokoboji.org/event/recycling/2025-01-27/
END:VEVENT
BEGIN:VEVENT
DTSTART;TZID=America/Chicago:20250113T173000
DTEND;TZID=America/Chicago:20250113T183000
DTSTAMP:20260423T150400
CREATED:20240424T151309Z
LAST-MODIFIED:20260409T153538Z
UID:10000274-1736789400-1736793000@cityofwestokoboji.org
SUMMARY:City Council Meeting
DESCRIPTION:
URL:https://cityofwestokoboji.org/event/city-council-meeting/2025-01-13/
END:VEVENT
BEGIN:VEVENT
DTSTART;TZID=America/Chicago:20241231T080000
DTEND;TZID=America/Chicago:20250101T170000
DTSTAMP:20260423T150400
CREATED:20241016T131838Z
LAST-MODIFIED:20241016T131918Z
UID:10000105-1735632000-1735750800@cityofwestokoboji.org
SUMMARY:Office Closed New Year Holiday
DESCRIPTION:
URL:https://cityofwestokoboji.org/event/office-closed-new-year-holiday/2024-12-31/
END:VEVENT
BEGIN:VEVENT
DTSTART;TZID=America/Chicago:20241230T070000
DTEND;TZID=America/Chicago:20241230T110000
DTSTAMP:20260423T150400
CREATED:20240923T184823Z
LAST-MODIFIED:20250728T200723Z
UID:10000096-1735542000-1735556400@cityofwestokoboji.org
SUMMARY:RECYCLING
DESCRIPTION:
URL:https://cityofwestokoboji.org/event/recycling/2024-12-30/
END:VEVENT
BEGIN:VEVENT
DTSTART;VALUE=DATE:20241230
DTEND;VALUE=DATE:20241231
DTSTAMP:20260423T150400
CREATED:20240424T151444Z
LAST-MODIFIED:20240607T132031Z
UID:10000044-1735516800-1735603199@cityofwestokoboji.org
SUMMARY:Residential Garbage
DESCRIPTION:
URL:https://cityofwestokoboji.org/event/residential-garbage/2024-12-30/
END:VEVENT
BEGIN:VEVENT
DTSTART;TZID=America/Chicago:20241224T080000
DTEND;TZID=America/Chicago:20241225T170000
DTSTAMP:20260423T150400
CREATED:20241016T131807Z
LAST-MODIFIED:20250728T201123Z
UID:10000104-1735027200-1735146000@cityofwestokoboji.org
SUMMARY:Office Closed Christmas Holiday
DESCRIPTION:
URL:https://cityofwestokoboji.org/event/office-closed-christmas-holiday/2024-12-24/
END:VEVENT
BEGIN:VEVENT
DTSTART;VALUE=DATE:20241223
DTEND;VALUE=DATE:20241224
DTSTAMP:20260423T150400
CREATED:20240424T151444Z
LAST-MODIFIED:20240607T132031Z
UID:10000043-1734912000-1734998399@cityofwestokoboji.org
SUMMARY:Residential Garbage
DESCRIPTION:
URL:https://cityofwestokoboji.org/event/residential-garbage/2024-12-23/
END:VEVENT
BEGIN:VEVENT
DTSTART;VALUE=DATE:20241216
DTEND;VALUE=DATE:20241217
DTSTAMP:20260423T150400
CREATED:20240424T151444Z
LAST-MODIFIED:20240607T132031Z
UID:10000042-1734307200-1734393599@cityofwestokoboji.org
SUMMARY:Residential Garbage
DESCRIPTION:
URL:https://cityofwestokoboji.org/event/residential-garbage/2024-12-16/
END:VEVENT
BEGIN:VEVENT
DTSTART;TZID=America/Chicago:20241209T173000
DTEND;TZID=America/Chicago:20241209T183000
DTSTAMP:20260423T150400
CREATED:20240424T151309Z
LAST-MODIFIED:20260409T153538Z
UID:10000273-1733765400-1733769000@cityofwestokoboji.org
SUMMARY:City Council Meeting
DESCRIPTION:
URL:https://cityofwestokoboji.org/event/city-council-meeting/2024-12-09/
END:VEVENT
BEGIN:VEVENT
DTSTART;VALUE=DATE:20241209
DTEND;VALUE=DATE:20241210
DTSTAMP:20260423T150400
CREATED:20240424T151444Z
LAST-MODIFIED:20240607T132031Z
UID:10000041-1733702400-1733788799@cityofwestokoboji.org
SUMMARY:Residential Garbage
DESCRIPTION:
URL:https://cityofwestokoboji.org/event/residential-garbage/2024-12-09/
END:VEVENT
BEGIN:VEVENT
DTSTART;VALUE=DATE:20241202
DTEND;VALUE=DATE:20241203
DTSTAMP:20260423T150400
CREATED:20240424T151444Z
LAST-MODIFIED:20240607T132031Z
UID:10000040-1733097600-1733183999@cityofwestokoboji.org
SUMMARY:Residential Garbage
DESCRIPTION:
URL:https://cityofwestokoboji.org/event/residential-garbage/2024-12-02/
END:VEVENT
END:VCALENDAR