BEGIN:VCALENDAR
VERSION:2.0
PRODID:-//City of West Okoboji - ECPv6.15.20//NONSGML v1.0//EN
CALSCALE:GREGORIAN
METHOD:PUBLISH
X-ORIGINAL-URL:https://cityofwestokoboji.org
X-WR-CALDESC:Events for City of West Okoboji
REFRESH-INTERVAL;VALUE=DURATION:PT1H
X-Robots-Tag:noindex
X-PUBLISHED-TTL:PT1H
BEGIN:VTIMEZONE
TZID:America/Chicago
BEGIN:DAYLIGHT
TZOFFSETFROM:-0600
TZOFFSETTO:-0500
TZNAME:CDT
DTSTART:20260308T080000
END:DAYLIGHT
BEGIN:STANDARD
TZOFFSETFROM:-0500
TZOFFSETTO:-0600
TZNAME:CST
DTSTART:20261101T070000
END:STANDARD
BEGIN:DAYLIGHT
TZOFFSETFROM:-0600
TZOFFSETTO:-0500
TZNAME:CDT
DTSTART:20270314T080000
END:DAYLIGHT
BEGIN:STANDARD
TZOFFSETFROM:-0500
TZOFFSETTO:-0600
TZNAME:CST
DTSTART:20271107T070000
END:STANDARD
BEGIN:DAYLIGHT
TZOFFSETFROM:-0600
TZOFFSETTO:-0500
TZNAME:CDT
DTSTART:20280312T080000
END:DAYLIGHT
BEGIN:STANDARD
TZOFFSETFROM:-0500
TZOFFSETTO:-0600
TZNAME:CST
DTSTART:20281105T070000
END:STANDARD
BEGIN:DAYLIGHT
TZOFFSETFROM:-0600
TZOFFSETTO:-0500
TZNAME:CDT
DTSTART:20290311T080000
END:DAYLIGHT
BEGIN:STANDARD
TZOFFSETFROM:-0500
TZOFFSETTO:-0600
TZNAME:CST
DTSTART:20291104T070000
END:STANDARD
END:VTIMEZONE
BEGIN:VEVENT
DTSTART;TZID=America/Chicago:20270614T173000
DTEND;TZID=America/Chicago:20270614T183000
DTSTAMP:20260423T181005
CREATED:20240424T151309Z
LAST-MODIFIED:20260409T153538Z
UID:10000303-1812994200-1812997800@cityofwestokoboji.org
SUMMARY:City Council Meeting
DESCRIPTION:
URL:https://cityofwestokoboji.org/event/city-council-meeting/2027-06-14/
END:VEVENT
BEGIN:VEVENT
DTSTART;TZID=America/Chicago:20270628T070000
DTEND;TZID=America/Chicago:20270628T110000
DTSTAMP:20260423T181005
CREATED:20240923T184823Z
LAST-MODIFIED:20250728T200723Z
UID:10000146-1814166000-1814180400@cityofwestokoboji.org
SUMMARY:RECYCLING
DESCRIPTION:
URL:https://cityofwestokoboji.org/event/recycling/2027-06-28/
END:VEVENT
BEGIN:VEVENT
DTSTART;TZID=America/Chicago:20270712T173000
DTEND;TZID=America/Chicago:20270712T183000
DTSTAMP:20260423T181005
CREATED:20240424T151309Z
LAST-MODIFIED:20260409T153538Z
UID:10000304-1815413400-1815417000@cityofwestokoboji.org
SUMMARY:City Council Meeting
DESCRIPTION:
URL:https://cityofwestokoboji.org/event/city-council-meeting/2027-07-12/
END:VEVENT
BEGIN:VEVENT
DTSTART;TZID=America/Chicago:20270726T070000
DTEND;TZID=America/Chicago:20270726T110000
DTSTAMP:20260423T181005
CREATED:20240923T184823Z
LAST-MODIFIED:20250728T200723Z
UID:10000147-1816585200-1816599600@cityofwestokoboji.org
SUMMARY:RECYCLING
DESCRIPTION:
URL:https://cityofwestokoboji.org/event/recycling/2027-07-26/
END:VEVENT
BEGIN:VEVENT
DTSTART;TZID=America/Chicago:20270809T173000
DTEND;TZID=America/Chicago:20270809T183000
DTSTAMP:20260423T181005
CREATED:20240424T151309Z
LAST-MODIFIED:20260409T153538Z
UID:10000305-1817832600-1817836200@cityofwestokoboji.org
SUMMARY:City Council Meeting
DESCRIPTION:
URL:https://cityofwestokoboji.org/event/city-council-meeting/2027-08-09/
END:VEVENT
BEGIN:VEVENT
DTSTART;TZID=America/Chicago:20270830T070000
DTEND;TZID=America/Chicago:20270830T110000
DTSTAMP:20260423T181005
CREATED:20240923T184823Z
LAST-MODIFIED:20250728T200723Z
UID:10000148-1819609200-1819623600@cityofwestokoboji.org
SUMMARY:RECYCLING
DESCRIPTION:
URL:https://cityofwestokoboji.org/event/recycling/2027-08-30/
END:VEVENT
BEGIN:VEVENT
DTSTART;TZID=America/Chicago:20270913T173000
DTEND;TZID=America/Chicago:20270913T183000
DTSTAMP:20260423T181005
CREATED:20240424T151309Z
LAST-MODIFIED:20260409T153538Z
UID:10000306-1820856600-1820860200@cityofwestokoboji.org
SUMMARY:City Council Meeting
DESCRIPTION:
URL:https://cityofwestokoboji.org/event/city-council-meeting/2027-09-13/
END:VEVENT
BEGIN:VEVENT
DTSTART;TZID=America/Chicago:20270927T070000
DTEND;TZID=America/Chicago:20270927T110000
DTSTAMP:20260423T181005
CREATED:20240923T184823Z
LAST-MODIFIED:20250728T200723Z
UID:10000149-1822028400-1822042800@cityofwestokoboji.org
SUMMARY:RECYCLING
DESCRIPTION:
URL:https://cityofwestokoboji.org/event/recycling/2027-09-27/
END:VEVENT
BEGIN:VEVENT
DTSTART;TZID=America/Chicago:20271011T173000
DTEND;TZID=America/Chicago:20271011T183000
DTSTAMP:20260423T181005
CREATED:20240424T151309Z
LAST-MODIFIED:20260409T153538Z
UID:10000307-1823275800-1823279400@cityofwestokoboji.org
SUMMARY:City Council Meeting
DESCRIPTION:
URL:https://cityofwestokoboji.org/event/city-council-meeting/2027-10-11/
END:VEVENT
BEGIN:VEVENT
DTSTART;TZID=America/Chicago:20271025T070000
DTEND;TZID=America/Chicago:20271025T110000
DTSTAMP:20260423T181005
CREATED:20240923T184823Z
LAST-MODIFIED:20250728T200723Z
UID:10000150-1824447600-1824462000@cityofwestokoboji.org
SUMMARY:RECYCLING
DESCRIPTION:
URL:https://cityofwestokoboji.org/event/recycling/2027-10-25/
END:VEVENT
BEGIN:VEVENT
DTSTART;TZID=America/Chicago:20271108T173000
DTEND;TZID=America/Chicago:20271108T183000
DTSTAMP:20260423T181005
CREATED:20240424T151309Z
LAST-MODIFIED:20260409T153538Z
UID:10000308-1825695000-1825698600@cityofwestokoboji.org
SUMMARY:City Council Meeting
DESCRIPTION:
URL:https://cityofwestokoboji.org/event/city-council-meeting/2027-11-08/
END:VEVENT
BEGIN:VEVENT
DTSTART;TZID=America/Chicago:20271125T080000
DTEND;TZID=America/Chicago:20271126T170000
DTSTAMP:20260423T181005
CREATED:20241016T131731Z
LAST-MODIFIED:20241016T131951Z
UID:10000112-1827129600-1827248400@cityofwestokoboji.org
SUMMARY:Office Closed Thanksgiving Holiday
DESCRIPTION:Office Closed for Thanksgiving Holiday
URL:https://cityofwestokoboji.org/event/office-closed-thanksgiving-holiday/2027-11-25/
END:VEVENT
BEGIN:VEVENT
DTSTART;TZID=America/Chicago:20271129T070000
DTEND;TZID=America/Chicago:20271129T110000
DTSTAMP:20260423T181005
CREATED:20240923T184823Z
LAST-MODIFIED:20250728T200723Z
UID:10000151-1827471600-1827486000@cityofwestokoboji.org
SUMMARY:RECYCLING
DESCRIPTION:
URL:https://cityofwestokoboji.org/event/recycling/2027-11-29/
END:VEVENT
BEGIN:VEVENT
DTSTART;TZID=America/Chicago:20271213T173000
DTEND;TZID=America/Chicago:20271213T183000
DTSTAMP:20260423T181005
CREATED:20240424T151309Z
LAST-MODIFIED:20260409T153538Z
UID:10000309-1828719000-1828722600@cityofwestokoboji.org
SUMMARY:City Council Meeting
DESCRIPTION:
URL:https://cityofwestokoboji.org/event/city-council-meeting/2027-12-13/
END:VEVENT
BEGIN:VEVENT
DTSTART;TZID=America/Chicago:20271224T080000
DTEND;TZID=America/Chicago:20271225T170000
DTSTAMP:20260423T181005
CREATED:20241016T131807Z
LAST-MODIFIED:20250728T201123Z
UID:10000207-1829635200-1829754000@cityofwestokoboji.org
SUMMARY:Office Closed Christmas Holiday
DESCRIPTION:
URL:https://cityofwestokoboji.org/event/office-closed-christmas-holiday/2027-12-24/
END:VEVENT
BEGIN:VEVENT
DTSTART;TZID=America/Chicago:20271227T070000
DTEND;TZID=America/Chicago:20271227T110000
DTSTAMP:20260423T181005
CREATED:20240923T184823Z
LAST-MODIFIED:20250728T200723Z
UID:10000152-1829890800-1829905200@cityofwestokoboji.org
SUMMARY:RECYCLING
DESCRIPTION:
URL:https://cityofwestokoboji.org/event/recycling/2027-12-27/
END:VEVENT
BEGIN:VEVENT
DTSTART;TZID=America/Chicago:20271231T080000
DTEND;TZID=America/Chicago:20280101T170000
DTSTAMP:20260423T181005
CREATED:20241016T131838Z
LAST-MODIFIED:20241016T131918Z
UID:10000108-1830240000-1830358800@cityofwestokoboji.org
SUMMARY:Office Closed New Year Holiday
DESCRIPTION:
URL:https://cityofwestokoboji.org/event/office-closed-new-year-holiday/2027-12-31/
END:VEVENT
BEGIN:VEVENT
DTSTART;TZID=America/Chicago:20280110T173000
DTEND;TZID=America/Chicago:20280110T183000
DTSTAMP:20260423T181005
CREATED:20240424T151309Z
LAST-MODIFIED:20260409T153538Z
UID:10000310-1831138200-1831141800@cityofwestokoboji.org
SUMMARY:City Council Meeting
DESCRIPTION:
URL:https://cityofwestokoboji.org/event/city-council-meeting/2028-01-10/
END:VEVENT
BEGIN:VEVENT
DTSTART;TZID=America/Chicago:20280131T070000
DTEND;TZID=America/Chicago:20280131T110000
DTSTAMP:20260423T181005
CREATED:20240923T184823Z
LAST-MODIFIED:20250728T200723Z
UID:10000153-1832914800-1832929200@cityofwestokoboji.org
SUMMARY:RECYCLING
DESCRIPTION:
URL:https://cityofwestokoboji.org/event/recycling/2028-01-31/
END:VEVENT
BEGIN:VEVENT
DTSTART;TZID=America/Chicago:20280214T173000
DTEND;TZID=America/Chicago:20280214T183000
DTSTAMP:20260423T181005
CREATED:20240424T151309Z
LAST-MODIFIED:20260409T153538Z
UID:10000311-1834162200-1834165800@cityofwestokoboji.org
SUMMARY:City Council Meeting
DESCRIPTION:
URL:https://cityofwestokoboji.org/event/city-council-meeting/2028-02-14/
END:VEVENT
BEGIN:VEVENT
DTSTART;TZID=America/Chicago:20280228T070000
DTEND;TZID=America/Chicago:20280228T110000
DTSTAMP:20260423T181005
CREATED:20240923T184823Z
LAST-MODIFIED:20250728T200723Z
UID:10000154-1835334000-1835348400@cityofwestokoboji.org
SUMMARY:RECYCLING
DESCRIPTION:
URL:https://cityofwestokoboji.org/event/recycling/2028-02-28/
END:VEVENT
BEGIN:VEVENT
DTSTART;TZID=America/Chicago:20280313T173000
DTEND;TZID=America/Chicago:20280313T183000
DTSTAMP:20260423T181005
CREATED:20240424T151309Z
LAST-MODIFIED:20260409T153538Z
UID:10000312-1836581400-1836585000@cityofwestokoboji.org
SUMMARY:City Council Meeting
DESCRIPTION:
URL:https://cityofwestokoboji.org/event/city-council-meeting/2028-03-13/
END:VEVENT
BEGIN:VEVENT
DTSTART;TZID=America/Chicago:20280327T070000
DTEND;TZID=America/Chicago:20280327T110000
DTSTAMP:20260423T181005
CREATED:20240923T184823Z
LAST-MODIFIED:20250728T200723Z
UID:10000155-1837753200-1837767600@cityofwestokoboji.org
SUMMARY:RECYCLING
DESCRIPTION:
URL:https://cityofwestokoboji.org/event/recycling/2028-03-27/
END:VEVENT
BEGIN:VEVENT
DTSTART;TZID=America/Chicago:20280410T173000
DTEND;TZID=America/Chicago:20280410T183000
DTSTAMP:20260423T181005
CREATED:20240424T151309Z
LAST-MODIFIED:20260409T153538Z
UID:10000313-1839000600-1839004200@cityofwestokoboji.org
SUMMARY:City Council Meeting
DESCRIPTION:
URL:https://cityofwestokoboji.org/event/city-council-meeting/2028-04-10/
END:VEVENT
BEGIN:VEVENT
DTSTART;TZID=America/Chicago:20280424T070000
DTEND;TZID=America/Chicago:20280424T110000
DTSTAMP:20260423T181005
CREATED:20240923T184823Z
LAST-MODIFIED:20250728T200723Z
UID:10000156-1840172400-1840186800@cityofwestokoboji.org
SUMMARY:RECYCLING
DESCRIPTION:
URL:https://cityofwestokoboji.org/event/recycling/2028-04-24/
END:VEVENT
BEGIN:VEVENT
DTSTART;TZID=America/Chicago:20280508T173000
DTEND;TZID=America/Chicago:20280508T183000
DTSTAMP:20260423T181005
CREATED:20240424T151309Z
LAST-MODIFIED:20260409T153538Z
UID:10000314-1841419800-1841423400@cityofwestokoboji.org
SUMMARY:City Council Meeting
DESCRIPTION:
URL:https://cityofwestokoboji.org/event/city-council-meeting/2028-05-08/
END:VEVENT
BEGIN:VEVENT
DTSTART;TZID=America/Chicago:20280612T173000
DTEND;TZID=America/Chicago:20280612T183000
DTSTAMP:20260423T181005
CREATED:20240424T151309Z
LAST-MODIFIED:20260409T153538Z
UID:10000315-1844443800-1844447400@cityofwestokoboji.org
SUMMARY:City Council Meeting
DESCRIPTION:
URL:https://cityofwestokoboji.org/event/city-council-meeting/2028-06-12/
END:VEVENT
BEGIN:VEVENT
DTSTART;TZID=America/Chicago:20280710T173000
DTEND;TZID=America/Chicago:20280710T183000
DTSTAMP:20260423T181005
CREATED:20240424T151309Z
LAST-MODIFIED:20260409T153538Z
UID:10000316-1846863000-1846866600@cityofwestokoboji.org
SUMMARY:City Council Meeting
DESCRIPTION:
URL:https://cityofwestokoboji.org/event/city-council-meeting/2028-07-10/
END:VEVENT
BEGIN:VEVENT
DTSTART;TZID=America/Chicago:20280814T173000
DTEND;TZID=America/Chicago:20280814T183000
DTSTAMP:20260423T181005
CREATED:20240424T151309Z
LAST-MODIFIED:20260409T153538Z
UID:10000317-1849887000-1849890600@cityofwestokoboji.org
SUMMARY:City Council Meeting
DESCRIPTION:
URL:https://cityofwestokoboji.org/event/city-council-meeting/2028-08-14/
END:VEVENT
BEGIN:VEVENT
DTSTART;TZID=America/Chicago:20280911T173000
DTEND;TZID=America/Chicago:20280911T183000
DTSTAMP:20260423T181005
CREATED:20240424T151309Z
LAST-MODIFIED:20260409T153538Z
UID:10000318-1852306200-1852309800@cityofwestokoboji.org
SUMMARY:City Council Meeting
DESCRIPTION:
URL:https://cityofwestokoboji.org/event/city-council-meeting/2028-09-11/
END:VEVENT
END:VCALENDAR