BEGIN:VCALENDAR
VERSION:2.0
PRODID:-//City of West Okoboji - ECPv6.15.20//NONSGML v1.0//EN
CALSCALE:GREGORIAN
METHOD:PUBLISH
X-WR-CALNAME:City of West Okoboji
X-ORIGINAL-URL:https://cityofwestokoboji.org
X-WR-CALDESC:Events for City of West Okoboji
REFRESH-INTERVAL;VALUE=DURATION:PT1H
X-Robots-Tag:noindex
X-PUBLISHED-TTL:PT1H
BEGIN:VTIMEZONE
TZID:America/Chicago
BEGIN:DAYLIGHT
TZOFFSETFROM:-0600
TZOFFSETTO:-0500
TZNAME:CDT
DTSTART:20250309T080000
END:DAYLIGHT
BEGIN:STANDARD
TZOFFSETFROM:-0500
TZOFFSETTO:-0600
TZNAME:CST
DTSTART:20251102T070000
END:STANDARD
BEGIN:DAYLIGHT
TZOFFSETFROM:-0600
TZOFFSETTO:-0500
TZNAME:CDT
DTSTART:20260308T080000
END:DAYLIGHT
BEGIN:STANDARD
TZOFFSETFROM:-0500
TZOFFSETTO:-0600
TZNAME:CST
DTSTART:20261101T070000
END:STANDARD
BEGIN:DAYLIGHT
TZOFFSETFROM:-0600
TZOFFSETTO:-0500
TZNAME:CDT
DTSTART:20270314T080000
END:DAYLIGHT
BEGIN:STANDARD
TZOFFSETFROM:-0500
TZOFFSETTO:-0600
TZNAME:CST
DTSTART:20271107T070000
END:STANDARD
BEGIN:DAYLIGHT
TZOFFSETFROM:-0600
TZOFFSETTO:-0500
TZNAME:CDT
DTSTART:20280312T080000
END:DAYLIGHT
BEGIN:STANDARD
TZOFFSETFROM:-0500
TZOFFSETTO:-0600
TZNAME:CST
DTSTART:20281105T070000
END:STANDARD
BEGIN:DAYLIGHT
TZOFFSETFROM:-0600
TZOFFSETTO:-0500
TZNAME:CDT
DTSTART:20290311T080000
END:DAYLIGHT
BEGIN:STANDARD
TZOFFSETFROM:-0500
TZOFFSETTO:-0600
TZNAME:CST
DTSTART:20291104T070000
END:STANDARD
END:VTIMEZONE
BEGIN:VEVENT
DTSTART;TZID=America/Chicago:20260427T070000
DTEND;TZID=America/Chicago:20260427T110000
DTSTAMP:20260423T121053
CREATED:20240923T184823Z
LAST-MODIFIED:20250728T200723Z
UID:10000132-1777273200-1777287600@cityofwestokoboji.org
SUMMARY:RECYCLING
DESCRIPTION:
URL:https://cityofwestokoboji.org/event/recycling/2026-04-27/
END:VEVENT
BEGIN:VEVENT
DTSTART;TZID=America/Chicago:20260525T070000
DTEND;TZID=America/Chicago:20260525T110000
DTSTAMP:20260423T121053
CREATED:20240923T184823Z
LAST-MODIFIED:20250728T200723Z
UID:10000133-1779692400-1779706800@cityofwestokoboji.org
SUMMARY:RECYCLING
DESCRIPTION:
URL:https://cityofwestokoboji.org/event/recycling/2026-05-25/
END:VEVENT
BEGIN:VEVENT
DTSTART;TZID=America/Chicago:20260629T070000
DTEND;TZID=America/Chicago:20260629T110000
DTSTAMP:20260423T121053
CREATED:20240923T184823Z
LAST-MODIFIED:20250728T200723Z
UID:10000134-1782716400-1782730800@cityofwestokoboji.org
SUMMARY:RECYCLING
DESCRIPTION:
URL:https://cityofwestokoboji.org/event/recycling/2026-06-29/
END:VEVENT
BEGIN:VEVENT
DTSTART;TZID=America/Chicago:20260727T070000
DTEND;TZID=America/Chicago:20260727T110000
DTSTAMP:20260423T121053
CREATED:20240923T184823Z
LAST-MODIFIED:20250728T200723Z
UID:10000135-1785135600-1785150000@cityofwestokoboji.org
SUMMARY:RECYCLING
DESCRIPTION:
URL:https://cityofwestokoboji.org/event/recycling/2026-07-27/
END:VEVENT
BEGIN:VEVENT
DTSTART;TZID=America/Chicago:20260831T070000
DTEND;TZID=America/Chicago:20260831T110000
DTSTAMP:20260423T121053
CREATED:20240923T184823Z
LAST-MODIFIED:20250728T200723Z
UID:10000136-1788159600-1788174000@cityofwestokoboji.org
SUMMARY:RECYCLING
DESCRIPTION:
URL:https://cityofwestokoboji.org/event/recycling/2026-08-31/
END:VEVENT
BEGIN:VEVENT
DTSTART;TZID=America/Chicago:20260928T070000
DTEND;TZID=America/Chicago:20260928T110000
DTSTAMP:20260423T121053
CREATED:20240923T184823Z
LAST-MODIFIED:20250728T200723Z
UID:10000137-1790578800-1790593200@cityofwestokoboji.org
SUMMARY:RECYCLING
DESCRIPTION:
URL:https://cityofwestokoboji.org/event/recycling/2026-09-28/
END:VEVENT
BEGIN:VEVENT
DTSTART;TZID=America/Chicago:20261026T070000
DTEND;TZID=America/Chicago:20261026T110000
DTSTAMP:20260423T121053
CREATED:20240923T184823Z
LAST-MODIFIED:20250728T200723Z
UID:10000138-1792998000-1793012400@cityofwestokoboji.org
SUMMARY:RECYCLING
DESCRIPTION:
URL:https://cityofwestokoboji.org/event/recycling/2026-10-26/
END:VEVENT
BEGIN:VEVENT
DTSTART;TZID=America/Chicago:20261130T070000
DTEND;TZID=America/Chicago:20261130T110000
DTSTAMP:20260423T121053
CREATED:20240923T184823Z
LAST-MODIFIED:20250728T200723Z
UID:10000139-1796022000-1796036400@cityofwestokoboji.org
SUMMARY:RECYCLING
DESCRIPTION:
URL:https://cityofwestokoboji.org/event/recycling/2026-11-30/
END:VEVENT
BEGIN:VEVENT
DTSTART;TZID=America/Chicago:20261228T070000
DTEND;TZID=America/Chicago:20261228T110000
DTSTAMP:20260423T121053
CREATED:20240923T184823Z
LAST-MODIFIED:20250728T200723Z
UID:10000140-1798441200-1798455600@cityofwestokoboji.org
SUMMARY:RECYCLING
DESCRIPTION:
URL:https://cityofwestokoboji.org/event/recycling/2026-12-28/
END:VEVENT
BEGIN:VEVENT
DTSTART;TZID=America/Chicago:20270125T070000
DTEND;TZID=America/Chicago:20270125T110000
DTSTAMP:20260423T121053
CREATED:20240923T184823Z
LAST-MODIFIED:20250728T200723Z
UID:10000141-1800860400-1800874800@cityofwestokoboji.org
SUMMARY:RECYCLING
DESCRIPTION:
URL:https://cityofwestokoboji.org/event/recycling/2027-01-25/
END:VEVENT
BEGIN:VEVENT
DTSTART;TZID=America/Chicago:20270222T070000
DTEND;TZID=America/Chicago:20270222T110000
DTSTAMP:20260423T121053
CREATED:20240923T184823Z
LAST-MODIFIED:20250728T200723Z
UID:10000142-1803279600-1803294000@cityofwestokoboji.org
SUMMARY:RECYCLING
DESCRIPTION:
URL:https://cityofwestokoboji.org/event/recycling/2027-02-22/
END:VEVENT
BEGIN:VEVENT
DTSTART;TZID=America/Chicago:20270329T070000
DTEND;TZID=America/Chicago:20270329T110000
DTSTAMP:20260423T121053
CREATED:20240923T184823Z
LAST-MODIFIED:20250728T200723Z
UID:10000143-1806303600-1806318000@cityofwestokoboji.org
SUMMARY:RECYCLING
DESCRIPTION:
URL:https://cityofwestokoboji.org/event/recycling/2027-03-29/
END:VEVENT
BEGIN:VEVENT
DTSTART;TZID=America/Chicago:20270426T070000
DTEND;TZID=America/Chicago:20270426T110000
DTSTAMP:20260423T121053
CREATED:20240923T184823Z
LAST-MODIFIED:20250728T200723Z
UID:10000144-1808722800-1808737200@cityofwestokoboji.org
SUMMARY:RECYCLING
DESCRIPTION:
URL:https://cityofwestokoboji.org/event/recycling/2027-04-26/
END:VEVENT
BEGIN:VEVENT
DTSTART;TZID=America/Chicago:20270531T070000
DTEND;TZID=America/Chicago:20270531T110000
DTSTAMP:20260423T121053
CREATED:20240923T184823Z
LAST-MODIFIED:20250728T200723Z
UID:10000145-1811746800-1811761200@cityofwestokoboji.org
SUMMARY:RECYCLING
DESCRIPTION:
URL:https://cityofwestokoboji.org/event/recycling/2027-05-31/
END:VEVENT
BEGIN:VEVENT
DTSTART;TZID=America/Chicago:20270628T070000
DTEND;TZID=America/Chicago:20270628T110000
DTSTAMP:20260423T121053
CREATED:20240923T184823Z
LAST-MODIFIED:20250728T200723Z
UID:10000146-1814166000-1814180400@cityofwestokoboji.org
SUMMARY:RECYCLING
DESCRIPTION:
URL:https://cityofwestokoboji.org/event/recycling/2027-06-28/
END:VEVENT
BEGIN:VEVENT
DTSTART;TZID=America/Chicago:20270726T070000
DTEND;TZID=America/Chicago:20270726T110000
DTSTAMP:20260423T121053
CREATED:20240923T184823Z
LAST-MODIFIED:20250728T200723Z
UID:10000147-1816585200-1816599600@cityofwestokoboji.org
SUMMARY:RECYCLING
DESCRIPTION:
URL:https://cityofwestokoboji.org/event/recycling/2027-07-26/
END:VEVENT
BEGIN:VEVENT
DTSTART;TZID=America/Chicago:20270830T070000
DTEND;TZID=America/Chicago:20270830T110000
DTSTAMP:20260423T121053
CREATED:20240923T184823Z
LAST-MODIFIED:20250728T200723Z
UID:10000148-1819609200-1819623600@cityofwestokoboji.org
SUMMARY:RECYCLING
DESCRIPTION:
URL:https://cityofwestokoboji.org/event/recycling/2027-08-30/
END:VEVENT
BEGIN:VEVENT
DTSTART;TZID=America/Chicago:20270927T070000
DTEND;TZID=America/Chicago:20270927T110000
DTSTAMP:20260423T121053
CREATED:20240923T184823Z
LAST-MODIFIED:20250728T200723Z
UID:10000149-1822028400-1822042800@cityofwestokoboji.org
SUMMARY:RECYCLING
DESCRIPTION:
URL:https://cityofwestokoboji.org/event/recycling/2027-09-27/
END:VEVENT
BEGIN:VEVENT
DTSTART;TZID=America/Chicago:20271025T070000
DTEND;TZID=America/Chicago:20271025T110000
DTSTAMP:20260423T121053
CREATED:20240923T184823Z
LAST-MODIFIED:20250728T200723Z
UID:10000150-1824447600-1824462000@cityofwestokoboji.org
SUMMARY:RECYCLING
DESCRIPTION:
URL:https://cityofwestokoboji.org/event/recycling/2027-10-25/
END:VEVENT
BEGIN:VEVENT
DTSTART;TZID=America/Chicago:20271129T070000
DTEND;TZID=America/Chicago:20271129T110000
DTSTAMP:20260423T121053
CREATED:20240923T184823Z
LAST-MODIFIED:20250728T200723Z
UID:10000151-1827471600-1827486000@cityofwestokoboji.org
SUMMARY:RECYCLING
DESCRIPTION:
URL:https://cityofwestokoboji.org/event/recycling/2027-11-29/
END:VEVENT
BEGIN:VEVENT
DTSTART;TZID=America/Chicago:20271227T070000
DTEND;TZID=America/Chicago:20271227T110000
DTSTAMP:20260423T121053
CREATED:20240923T184823Z
LAST-MODIFIED:20250728T200723Z
UID:10000152-1829890800-1829905200@cityofwestokoboji.org
SUMMARY:RECYCLING
DESCRIPTION:
URL:https://cityofwestokoboji.org/event/recycling/2027-12-27/
END:VEVENT
BEGIN:VEVENT
DTSTART;TZID=America/Chicago:20280131T070000
DTEND;TZID=America/Chicago:20280131T110000
DTSTAMP:20260423T121053
CREATED:20240923T184823Z
LAST-MODIFIED:20250728T200723Z
UID:10000153-1832914800-1832929200@cityofwestokoboji.org
SUMMARY:RECYCLING
DESCRIPTION:
URL:https://cityofwestokoboji.org/event/recycling/2028-01-31/
END:VEVENT
BEGIN:VEVENT
DTSTART;TZID=America/Chicago:20280228T070000
DTEND;TZID=America/Chicago:20280228T110000
DTSTAMP:20260423T121053
CREATED:20240923T184823Z
LAST-MODIFIED:20250728T200723Z
UID:10000154-1835334000-1835348400@cityofwestokoboji.org
SUMMARY:RECYCLING
DESCRIPTION:
URL:https://cityofwestokoboji.org/event/recycling/2028-02-28/
END:VEVENT
BEGIN:VEVENT
DTSTART;TZID=America/Chicago:20280327T070000
DTEND;TZID=America/Chicago:20280327T110000
DTSTAMP:20260423T121053
CREATED:20240923T184823Z
LAST-MODIFIED:20250728T200723Z
UID:10000155-1837753200-1837767600@cityofwestokoboji.org
SUMMARY:RECYCLING
DESCRIPTION:
URL:https://cityofwestokoboji.org/event/recycling/2028-03-27/
END:VEVENT
BEGIN:VEVENT
DTSTART;TZID=America/Chicago:20280424T070000
DTEND;TZID=America/Chicago:20280424T110000
DTSTAMP:20260423T121053
CREATED:20240923T184823Z
LAST-MODIFIED:20250728T200723Z
UID:10000156-1840172400-1840186800@cityofwestokoboji.org
SUMMARY:RECYCLING
DESCRIPTION:
URL:https://cityofwestokoboji.org/event/recycling/2028-04-24/
END:VEVENT
END:VCALENDAR